BEGIN:VCALENDAR
VERSION:2.0
PRODID:-//Creation Study Center - ECPv6.2.0.1//NONSGML v1.0//EN
CALSCALE:GREGORIAN
METHOD:PUBLISH
X-WR-CALNAME:Creation Study Center
X-ORIGINAL-URL:https://creationstudycenter.com
X-WR-CALDESC:Events for Creation Study Center
REFRESH-INTERVAL;VALUE=DURATION:PT1H
X-Robots-Tag:noindex
X-PUBLISHED-TTL:PT1H
BEGIN:VTIMEZONE
TZID:America/Los_Angeles
BEGIN:DAYLIGHT
TZOFFSETFROM:-0800
TZOFFSETTO:-0700
TZNAME:PDT
DTSTART:20210314T100000
END:DAYLIGHT
BEGIN:STANDARD
TZOFFSETFROM:-0700
TZOFFSETTO:-0800
TZNAME:PST
DTSTART:20211107T090000
END:STANDARD
END:VTIMEZONE
BEGIN:VEVENT
DTSTART;TZID=America/Los_Angeles:20210928T080000
DTEND;TZID=America/Los_Angeles:20211001T170000
DTSTAMP:20260421T042645
CREATED:20210831T193915Z
LAST-MODIFIED:20210831T193915Z
UID:2707-1632816000-1633107600@creationstudycenter.com
SUMMARY:Week of Prayer - Mountain View Christian School
DESCRIPTION:
URL:https://creationstudycenter.com/events/week-of-prayer-mountain-view-christian-school/
CATEGORIES:Week of Prayer
ATTACH;FMTTYPE=image/jpeg:https://creationstudycenter.com//uploads/2021/08/Mountain-View-Christian-School.jpg
END:VEVENT
BEGIN:VEVENT
DTSTART;TZID=America/Los_Angeles:20211002T080000
DTEND;TZID=America/Los_Angeles:20211002T170000
DTSTAMP:20260421T042645
CREATED:20210831T220039Z
LAST-MODIFIED:20210831T220039Z
UID:2712-1633161600-1633194000@creationstudycenter.com
SUMMARY:Creation Seminar - Port Townsend Adventist Church
DESCRIPTION:Seminar:\nSaturday\, October 2 at 9:30am:\nOrigin of the Oceans\nHear the worldwide flood stories and discuss the problems with current world views. Was Noah’s ark a mythic tale? Has the ark be found? \nSaturday\, October 2 at 11am:\nA Call to Worship the God of Genesis\nRevelation 14:6\, 7 contains the last day message of coming back to the God Who created and the God Who judged; in other words\, it’s all about the God of Genesis. \nSaturday\, October 2 at 2pm:\nOrigin of Dinosaurs\nWe’ll spotlight the history of dinosaurs\, their discovery\, and their cause for extinction. Then we’ll look at ancient stores of dragons and an interesting report from a recent bone dig. \nSaturday\, October 2 at 3pm:\nOrigin of the Earth\nWhat exactly is radiometric dating\, and does it tell us the exact age of the Earth? Understand the conflicting views on this fascinating subject.
URL:https://creationstudycenter.com/events/creation-seminar-port-townsend-adventist-church/
LOCATION:Port Townsend Adventist Church\, 331 Benton St\, Port Townsend\, WA\, 98368
CATEGORIES:Seminar
ATTACH;FMTTYPE=image/jpeg:https://creationstudycenter.com//uploads/2021/08/Port-Townsend.jpg
GEO:48.1125268;-122.7649621
X-APPLE-STRUCTURED-LOCATION;VALUE=URI;X-ADDRESS=Port Townsend Adventist Church 331 Benton St Port Townsend WA 98368;X-APPLE-RADIUS=500;X-TITLE=331 Benton St:geo:-122.7649621,48.1125268
END:VEVENT
BEGIN:VEVENT
DTSTART;TZID=America/Los_Angeles:20211005T080000
DTEND;TZID=America/Los_Angeles:20211008T170000
DTSTAMP:20260421T042645
CREATED:20210831T222703Z
LAST-MODIFIED:20210831T222703Z
UID:2716-1633420800-1633712400@creationstudycenter.com
SUMMARY:Week of Prayer - Harris Jr. Academy
DESCRIPTION:
URL:https://creationstudycenter.com/events/week-of-prayer-harris-jr-academy/
CATEGORIES:Week of Prayer
ATTACH;FMTTYPE=image/jpeg:https://creationstudycenter.com//uploads/2021/08/Harris-Jr.-Academy.jpg
END:VEVENT
BEGIN:VEVENT
DTSTART;TZID=America/Los_Angeles:20211009T080000
DTEND;TZID=America/Los_Angeles:20211009T170000
DTSTAMP:20260421T042645
CREATED:20210831T223708Z
LAST-MODIFIED:20210831T223708Z
UID:2719-1633766400-1633798800@creationstudycenter.com
SUMMARY:Creation Seminar - Pendleton Adventist Church
DESCRIPTION:Seminar:\nSaturday\, October 9 at 9:15am:\nOrigin of the Oceans\nHear the worldwide flood stories and discuss the problems with current world views. Was Noah’s ark a mythic tale? Has the ark be found? \nSaturday\, October 2 at 10:40am:\nA Call to Worship the God of Genesis\nRevelation 14:6\, 7 contains the last day message of coming back to the God Who created and the God Who judged; in other words\, it’s all about the God of Genesis. \nSaturday\, October 2 at 2pm:\nOrigin of Dinosaurs\nWe’ll spotlight the history of dinosaurs\, their discovery\, and their cause for extinction. Then we’ll look at ancient stores of dragons and an interesting report from a recent bone dig. \nSaturday\, October 2 at 3pm:\nOrigin of the Earth\nWhat exactly is radiometric dating\, and does it tell us the exact age of the Earth? Understand the conflicting views on this fascinating subject.
URL:https://creationstudycenter.com/events/creation-seminar-pendleton-adventist-church/
LOCATION:Pendleon Adventist Church\, 1401 SW Goodwin Pl\, Pendleton\, WA\, 97801
CATEGORIES:Seminar
ATTACH;FMTTYPE=image/jpeg:https://creationstudycenter.com//uploads/2021/08/Pendleton.jpg
ORGANIZER;CN="Creation%20Study%20Center":MAILTO:info@creationstudycenter.com
GEO:45.6642672;-118.7986427
X-APPLE-STRUCTURED-LOCATION;VALUE=URI;X-ADDRESS=Pendleon Adventist Church 1401 SW Goodwin Pl Pendleton WA 97801;X-APPLE-RADIUS=500;X-TITLE=1401 SW Goodwin Pl:geo:-118.7986427,45.6642672
END:VEVENT
BEGIN:VEVENT
DTSTART;TZID=America/Los_Angeles:20211016T080000
DTEND;TZID=America/Los_Angeles:20211016T170000
DTSTAMP:20260421T042645
CREATED:20210831T224919Z
LAST-MODIFIED:20210831T224919Z
UID:2723-1634371200-1634403600@creationstudycenter.com
SUMMARY:Creation Seminar - Seaside Adventist Church
DESCRIPTION:Seminar:\nSaturday\, October 16 at 9:30am:\nOrigin of the Oceans\nHear the worldwide flood stories and discuss the problems with current world views. Was Noah’s ark a mythic tale? Has the ark be found? \nSaturday\, October 16 at 11am:\nA Call to Worship the God of Genesis\nRevelation 14:6\, 7 contains the last day message of coming back to the God Who created and the God Who judged; in other words\, it’s all about the God of Genesis. \nSaturday\, October 16 at 2pm:\nOrigin of Dinosaurs\nWe’ll spotlight the history of dinosaurs\, their discovery\, and their cause for extinction. Then we’ll look at ancient stores of dragons and an interesting report from a recent bone dig. \nSaturday\, October 16 at 3pm:\nOrigin of the Earth\nWhat exactly is radiometric dating\, and does it tell us the exact age of the Earth? Understand the conflicting views on this fascinating subject.
URL:https://creationstudycenter.com/events/creation-seminar-seaside-adventist-church/
CATEGORIES:Seminar
ATTACH;FMTTYPE=image/jpeg:https://creationstudycenter.com//uploads/2021/08/seaside.jpg
ORGANIZER;CN="Creation%20Study%20Center":MAILTO:info@creationstudycenter.com
END:VEVENT
BEGIN:VEVENT
DTSTART;TZID=America/Los_Angeles:20211019T080000
DTEND;TZID=America/Los_Angeles:20211022T170000
DTSTAMP:20260421T042645
CREATED:20210831T230137Z
LAST-MODIFIED:20210831T230209Z
UID:2726-1634630400-1634922000@creationstudycenter.com
SUMMARY:Week of Prayer - Goldendale Adventist School
DESCRIPTION:
URL:https://creationstudycenter.com/events/week-of-prayer-goldendale-adventist-school/
CATEGORIES:Week of Prayer
ATTACH;FMTTYPE=image/jpeg:https://creationstudycenter.com//uploads/2021/08/Goldendale-Adventist-School.jpg
ORGANIZER;CN="Creation%20Study%20Center":MAILTO:info@creationstudycenter.com
END:VEVENT
BEGIN:VEVENT
DTSTART;TZID=America/Los_Angeles:20211023T080000
DTEND;TZID=America/Los_Angeles:20211023T170000
DTSTAMP:20260421T042645
CREATED:20210831T231748Z
LAST-MODIFIED:20210831T231748Z
UID:2732-1634976000-1635008400@creationstudycenter.com
SUMMARY:Creation Seminar - Goldendale Adventist Church
DESCRIPTION:Seminar:\nSaturday\, October 23 at 9:10am:\nOrigin of the Oceans\nHear the worldwide flood stories and discuss the problems with current world views. Was Noah’s ark a mythic tale? Has the ark be found? \nSaturday\, October 23 at 10:45am:\nA Call to Worship the God of Genesis\nRevelation 14:6\, 7 contains the last day message of coming back to the God Who created and the God Who judged; in other words\, it’s all about the God of Genesis. \nSaturday\, October 23 at 2pm:\nOrigin of Dinosaurs\nWe’ll spotlight the history of dinosaurs\, their discovery\, and their cause for extinction. Then we’ll look at ancient stores of dragons and an interesting report from a recent bone dig. \nSaturday\, October 23 at 3pm:\nOrigin of the Earth\nWhat exactly is radiometric dating\, and does it tell us the exact age of the Earth? Understand the conflicting views on this fascinating subject.
URL:https://creationstudycenter.com/events/creation-seminar-goldendale-adventist-church/
LOCATION:Goldendale Adventist Church\, 59 Bickleton Hwy\, Goldendale\, WA\, 98620
CATEGORIES:Seminar
ATTACH;FMTTYPE=image/jpeg:https://creationstudycenter.com//uploads/2021/08/Goldendale-Church.jpg
ORGANIZER;CN="Creation%20Study%20Center":MAILTO:info@creationstudycenter.com
GEO:45.8251864;-120.7956859
X-APPLE-STRUCTURED-LOCATION;VALUE=URI;X-ADDRESS=Goldendale Adventist Church 59 Bickleton Hwy Goldendale WA 98620;X-APPLE-RADIUS=500;X-TITLE=59 Bickleton Hwy:geo:-120.7956859,45.8251864
END:VEVENT
BEGIN:VEVENT
DTSTART;TZID=America/Los_Angeles:20211026T080000
DTEND;TZID=America/Los_Angeles:20211029T170000
DTSTAMP:20260421T042645
CREATED:20210831T232056Z
LAST-MODIFIED:20210831T232056Z
UID:2736-1635235200-1635526800@creationstudycenter.com
SUMMARY:Week of Prayer - Rogue Valley Adventist Academy
DESCRIPTION:
URL:https://creationstudycenter.com/events/week-of-prayer-rogue-valley-adventist-academy/
CATEGORIES:Week of Prayer
ATTACH;FMTTYPE=image/jpeg:https://creationstudycenter.com//uploads/2021/08/Rogue-Valley.jpg
ORGANIZER;CN="Creation%20Study%20Center":MAILTO:info@creationstudycenter.com
END:VEVENT
BEGIN:VEVENT
DTSTART;VALUE=DATE:20211029
DTEND;VALUE=DATE:20211031
DTSTAMP:20260421T042645
CREATED:20191029T192028Z
LAST-MODIFIED:20210831T233651Z
UID:1807-1635465600-1635638399@creationstudycenter.com
SUMMARY:Creation Seminar - Medford Adventist Church
DESCRIPTION:Seminar\nThursday\, October 30 at 7pm:\n“In the Beginning…There Was Water”\nHear the worldwide flood stories and discuss the problems with current world views. Was Noah’s ark a mythic tale? Has the ark be found? \nFriday\, October 30 at 7pm:\n“A Call to Worship the God of Genesis”\nRevelation 14:6\, 7 contains the last day message of coming back to the God Who created and the God Who judged; in other words\, it’s all about the God of Genesis. \nSaturday\, October 30 at 11:05am:\n“In the Beginning…Dragon’s and Dinosaurs”\nWe’ll spotlight the history of dinosaurs\, their discovery\, and their cause for extinction. Then we’ll look at ancient stores of dragons and an interesting report from a recent bone dig. \nSaturday\, October 30 at 7pm:\n“In the Beginning…When Was That?”\nWhat exactly is radiometric dating\, and does it tell us the exact age of the Earth? Understand the conflicting views on this fascinating subject.
URL:https://creationstudycenter.com/events/medford-adventist-church/
LOCATION:Medford Seventh-day Adventist Church\, 1900 Greenwood St\, Medford\, 97504\, United States
CATEGORIES:Seminar
ATTACH;FMTTYPE=image/png:https://creationstudycenter.com//uploads/2019/10/medford.png
ORGANIZER;CN="Creation%20Study%20Center":MAILTO:info@creationstudycenter.com
GEO:42.3179722;-122.846823
X-APPLE-STRUCTURED-LOCATION;VALUE=URI;X-ADDRESS=Medford Seventh-day Adventist Church 1900 Greenwood St Medford 97504 United States;X-APPLE-RADIUS=500;X-TITLE=1900 Greenwood St:geo:-122.846823,42.3179722
END:VEVENT
END:VCALENDAR