BEGIN:VCALENDAR
VERSION:2.0
PRODID:-//Creation Study Center - ECPv6.2.0.1//NONSGML v1.0//EN
CALSCALE:GREGORIAN
METHOD:PUBLISH
X-WR-CALNAME:Creation Study Center
X-ORIGINAL-URL:https://creationstudycenter.com
X-WR-CALDESC:Events for Creation Study Center
REFRESH-INTERVAL;VALUE=DURATION:PT1H
X-Robots-Tag:noindex
X-PUBLISHED-TTL:PT1H
BEGIN:VTIMEZONE
TZID:America/Los_Angeles
BEGIN:DAYLIGHT
TZOFFSETFROM:-0800
TZOFFSETTO:-0700
TZNAME:PDT
DTSTART:20210314T100000
END:DAYLIGHT
BEGIN:STANDARD
TZOFFSETFROM:-0700
TZOFFSETTO:-0800
TZNAME:PST
DTSTART:20211107T090000
END:STANDARD
END:VTIMEZONE
BEGIN:VEVENT
DTSTART;TZID=America/Los_Angeles:20210928T080000
DTEND;TZID=America/Los_Angeles:20210930T170000
DTSTAMP:20260421T055355
CREATED:20210831T214215Z
LAST-MODIFIED:20210831T214215Z
UID:2710-1632816000-1633021200@creationstudycenter.com
SUMMARY:Week of Prayer - Cedarbrook Adventist Christian School
DESCRIPTION:
URL:https://creationstudycenter.com/events/week-of-prayer-cedarbrook-adventist-christian-school/
CATEGORIES:Week of Prayer
END:VEVENT
BEGIN:VEVENT
DTSTART;TZID=America/Los_Angeles:20210928T080000
DTEND;TZID=America/Los_Angeles:20211001T170000
DTSTAMP:20260421T055355
CREATED:20210831T193915Z
LAST-MODIFIED:20210831T193915Z
UID:2707-1632816000-1633107600@creationstudycenter.com
SUMMARY:Week of Prayer - Mountain View Christian School
DESCRIPTION:
URL:https://creationstudycenter.com/events/week-of-prayer-mountain-view-christian-school/
CATEGORIES:Week of Prayer
ATTACH;FMTTYPE=image/jpeg:https://creationstudycenter.com//uploads/2021/08/Mountain-View-Christian-School.jpg
END:VEVENT
END:VCALENDAR